BEGIN:VCALENDAR
VERSION:2.0
PRODID:-//Vulcan Riders Croatia ch.385//NONSGML kigkonsult.se iCalcreator 2
 .30.10//
CALSCALE:GREGORIAN
METHOD:PUBLISH
UID:819aefcb-e649-4cb8-aea9-aa269da614ef
X-WR-CALNAME:iCagenda
X-WR-CALDESC:Event Management Extension for Joomla!
X-WR-RELCALID:3E26604A-50F4-4449-8B3E-E4F4932D05B5
X-WR-TIMEZONE:Europe/Zagreb
BEGIN:VTIMEZONE
TZID:Europe/Zagreb
BEGIN:STANDARD
TZNAME:CET
DTSTART:20231029T030000
TZOFFSETFROM:+0200
TZOFFSETTO:+0100
RDATE:20241027T030000
RDATE:20251026T030000
END:STANDARD
BEGIN:DAYLIGHT
TZNAME:CEST
DTSTART:20240331T020000
TZOFFSETFROM:+0100
TZOFFSETTO:+0200
RDATE:20250330T020000
END:DAYLIGHT
END:VTIMEZONE
BEGIN:VEVENT
UID:e3aa8417-d356-4b1b-8e56-a250a8fcbe62
DTSTAMP:20260421T120032Z
CATEGORIES:VRA International Vulcan Rally
CLASS:PUBLIC
DESCRIPTION:
DTSTART:20240725T143900Z
DTEND:20240728T143900Z
GEO:00;0
LOCATION:
ORGANIZER:
SEQUENCE:1
SUMMARY:2024. - 18. VRA International Rally - UK
TRANSP:OPAQUE
URL:http://vulcanriders.com.hr/dogadanja/prosla-dogadanja/4-2024-18-vra-int
 ernational-rally-uk
END:VEVENT
END:VCALENDAR
