BEGIN:VCALENDAR
VERSION:2.0
PRODID:-//Vulcan Riders Croatia ch.385//NONSGML kigkonsult.se iCalcreator 2
 .30.10//
CALSCALE:GREGORIAN
METHOD:PUBLISH
UID:d4028fff-80ae-46b5-bbce-c9f0fd4ab5d3
X-WR-CALNAME:iCagenda
X-WR-CALDESC:Event Management Extension for Joomla!
X-WR-RELCALID:3E26604A-50F4-4449-8B3E-E4F4932D05B5
X-WR-TIMEZONE:Europe/Zagreb
BEGIN:VTIMEZONE
TZID:Europe/Zagreb
BEGIN:STANDARD
TZNAME:CET
DTSTART:20251026T030000
TZOFFSETFROM:+0200
TZOFFSETTO:+0100
RDATE:20261025T030000
END:STANDARD
BEGIN:DAYLIGHT
TZNAME:CEST
DTSTART:20250330T020000
TZOFFSETFROM:+0100
TZOFFSETTO:+0200
RDATE:20260329T020000
RDATE:20270328T020000
END:DAYLIGHT
END:VTIMEZONE
BEGIN:VEVENT
UID:77a65b53-6b3d-4fca-a889-2e3758e0e0c7
DTSTAMP:20260421T120021Z
CATEGORIES:other national / regional rally
CLASS:PUBLIC
DESCRIPTION:
DTSTART:20251114T100400Z
DTEND:20251116T100400Z
GEO:+42.412296;+1.153493
LOCATION:
ORGANIZER:
SEQUENCE:1
SUMMARY:2025 – VRA Spain – La Trobada
TRANSP:OPAQUE
URL:http://vulcanriders.com.hr/dogadanja/prosla-dogadanja/7-2025-vra-spain-
 la-trobada
END:VEVENT
END:VCALENDAR
